BEGIN:VCALENDAR
VERSION:2.0
PRODID:SchoolNow
CALSCALE:GREGORIAN
BEGIN:VEVENT
UID:a266fa3c-02c0-11f1-82cb-02c286309ee7
DTSTAMP:20260215T194110Z
SUMMARY:Jacket Softball AT Battle in Batesville
URL;VALUE=URI:https://www.starkvillesd.com/athletics/calendar/8850023/jacke
 t-softball-at-battle-in-batesville
DTSTART;VALUE=DATE:20260321
DTEND;VALUE=DATE:20260322
END:VEVENT
END:VCALENDAR
