BEGIN:VCALENDAR
VERSION:2.0
PRODID:SchoolNow
CALSCALE:GREGORIAN
BEGIN:VEVENT
UID:c298df00-02c0-11f1-bfaa-0a58a9feac02
DTSTAMP:20260215T194142Z
SUMMARY:Jacket Softball AT Choctaw Central
DESCRIPTION:Starkville at Choctaw Central\nJV 5:00pm\nV 6:30pm
URL;VALUE=URI:https://www.starkvillesd.com/athletics/calendar/8850024/jacke
 t-softball-at-choctaw-central
DTSTART:20260323T220000Z
DTEND:20260324T010000Z
END:VEVENT
END:VCALENDAR
