BEGIN:VCALENDAR
VERSION:2.0
PRODID:SchoolNow
CALSCALE:GREGORIAN
BEGIN:VEVENT
UID:e16a9ce8-02c0-11f1-8b01-0affd1487523
DTSTAMP:20260205T183126Z
SUMMARY:Jacket Softball AT Germantown
URL;VALUE=URI:https://www.starkvillesd.com/athletics/calendar/8850025/jacke
 t-softball-at-germantown
DTSTART:20260324T220000Z
DTEND:20260325T010000Z
END:VEVENT
END:VCALENDAR
