BEGIN:VCALENDAR
VERSION:2.0
PRODID:SchoolNow
CALSCALE:GREGORIAN
BEGIN:VEVENT
UID:fb3172be-02c0-11f1-afff-029d5c58f7ad
DTSTAMP:20260205T183209Z
SUMMARY:Jacket Softball VS Oxford
URL;VALUE=URI:https://www.starkvillesd.com/athletics/calendar/8850026/jacke
 t-softball-vs-oxford
DTSTART:20260326T220000Z
DTEND:20260327T010000Z
END:VEVENT
END:VCALENDAR
