BEGIN:VCALENDAR
VERSION:2.0
PRODID:SchoolNow
CALSCALE:GREGORIAN
BEGIN:VEVENT
UID:1a26c1c4-02c1-11f1-9645-0affdf23371d
DTSTAMP:20260205T183301Z
SUMMARY:Jacket Softball AT Murrah
URL;VALUE=URI:https://www.starkvillesd.com/athletics/calendar/8850027/jacke
 t-softball-at-murrah
DTSTART:20260331T220000Z
DTEND:20260401T010000Z
END:VEVENT
END:VCALENDAR
