BEGIN:VCALENDAR
VERSION:2.0
PRODID:SchoolNow
CALSCALE:GREGORIAN
BEGIN:VEVENT
UID:376f6c04-02c1-11f1-b571-0a58a9feac02
DTSTAMP:20260205T183350Z
SUMMARY:Jacket Softball AT Madison Central
URL;VALUE=URI:https://www.starkvillesd.com/athletics/calendar/8850028/jacke
 t-softball-at-madison-central
DTSTART:20260402T220000Z
DTEND:20260403T010000Z
END:VEVENT
END:VCALENDAR
