BEGIN:VCALENDAR
VERSION:2.0
PRODID:SchoolNow
CALSCALE:GREGORIAN
BEGIN:VEVENT
UID:4f2c9f10-02c1-11f1-aa34-0e0a1100e6c7
DTSTAMP:20260205T183430Z
SUMMARY:Jacket Softball VS Clinton
URL;VALUE=URI:https://www.starkvillesd.com/athletics/calendar/8850029/jacke
 t-softball-vs-clinton
DTSTART:20260407T220000Z
DTEND:20260408T010000Z
END:VEVENT
END:VCALENDAR
