BEGIN:VCALENDAR
VERSION:2.0
PRODID:SchoolNow
CALSCALE:GREGORIAN
BEGIN:VEVENT
UID:697adf58-02c1-11f1-9f60-0afff455e487
DTSTAMP:20260205T183514Z
SUMMARY:Jacket Softball VS Germantown
URL;VALUE=URI:https://www.starkvillesd.com/athletics/calendar/8850030/jacke
 t-softball-vs-germantown
DTSTART:20260410T220000Z
DTEND:20260411T010000Z
END:VEVENT
END:VCALENDAR
