BEGIN:VCALENDAR
VERSION:2.0
PRODID:SchoolNow
CALSCALE:GREGORIAN
BEGIN:VEVENT
UID:8f2a4c34-02c1-11f1-b7ad-0e0a1100e6c7
DTSTAMP:20260205T183617Z
SUMMARY:Jacket Softball AT Oxford
URL;VALUE=URI:https://www.starkvillesd.com/athletics/calendar/8850031/jacke
 t-softball-at-oxford
DTSTART:20260414T220000Z
DTEND:20260415T010000Z
END:VEVENT
END:VCALENDAR
