BEGIN:VCALENDAR
VERSION:2.0
PRODID:SchoolNow
CALSCALE:GREGORIAN
BEGIN:VEVENT
UID:aceab04c-02c1-11f1-a368-0a58a9feac02
DTSTAMP:20260205T183707Z
SUMMARY:Jacket Softball VS Murrah
URL;VALUE=URI:https://www.starkvillesd.com/athletics/calendar/8850032/jacke
 t-softball-vs-murrah
DTSTART:20260415T220000Z
DTEND:20260416T010000Z
END:VEVENT
END:VCALENDAR
