BEGIN:VCALENDAR
VERSION:2.0
PRODID:SchoolNow
CALSCALE:GREGORIAN
BEGIN:VEVENT
UID:c9bd4f42-02c4-11f1-90ae-0a58a9feac02
DTSTAMP:20260205T185924Z
SUMMARY:Jacket Tennis VS Noxubee
URL;VALUE=URI:https://www.starkvillesd.com/athletics/calendar/8850083/jacke
 t-tennis-vs-noxubee
DTSTART:20260209T220000Z
DTEND:20260210T000000Z
END:VEVENT
END:VCALENDAR
