BEGIN:VCALENDAR
VERSION:2.0
PRODID:SchoolNow
CALSCALE:GREGORIAN
BEGIN:VEVENT
UID:e4a37976-02c4-11f1-b19e-0e0a1100e6c7
DTSTAMP:20260205T190009Z
SUMMARY:Jacket Tennis VS Oxford
URL;VALUE=URI:https://www.starkvillesd.com/athletics/calendar/8850084/jacke
 t-tennis-vs-oxford
DTSTART:20260214T203000Z
DTEND:20260214T213000Z
END:VEVENT
END:VCALENDAR
