BEGIN:VCALENDAR
VERSION:2.0
PRODID:SchoolNow
CALSCALE:GREGORIAN
BEGIN:VEVENT
UID:00823a92-02c5-11f1-8f36-0e0a1100e6c7
DTSTAMP:20260215T191948Z
SUMMARY:Jacket Tennis AT Amory
DESCRIPTION:Starkville at Amory\nVarsity \n4:30
URL;VALUE=URI:https://www.starkvillesd.com/athletics/calendar/8850085/jacke
 t-tennis-at-amory
DTSTART:20260217T223000Z
DTEND:20260218T003000Z
END:VEVENT
END:VCALENDAR
