BEGIN:VCALENDAR
VERSION:2.0
PRODID:SchoolNow
CALSCALE:GREGORIAN
BEGIN:VEVENT
UID:1b467f46-02c5-11f1-9d84-0a58a9feac02
DTSTAMP:20260215T192615Z
SUMMARY:Jacket Tennis AT Caledonia
DESCRIPTION:Starkville at Caledonia\nVarsity\n4:00pm
URL;VALUE=URI:https://www.starkvillesd.com/athletics/calendar/8850086/jacke
 t-tennis-at-caledonia
DTSTART:20260223T220000Z
DTEND:20260224T000000Z
END:VEVENT
END:VCALENDAR
