BEGIN:VCALENDAR
VERSION:2.0
PRODID:SchoolNow
CALSCALE:GREGORIAN
BEGIN:VEVENT
UID:3ae90562-02c5-11f1-b8ee-0e0a1100e6c7
DTSTAMP:20260205T190234Z
SUMMARY:Jacket Tennis VS Greenville
URL;VALUE=URI:https://www.starkvillesd.com/athletics/calendar/8850087/jacke
 t-tennis-vs-greenville
DTSTART:20260224T220000Z
DTEND:20260225T000000Z
END:VEVENT
END:VCALENDAR
