BEGIN:VCALENDAR
VERSION:2.0
PRODID:SchoolNow
CALSCALE:GREGORIAN
BEGIN:VEVENT
UID:5e970db0-02c5-11f1-b32e-02c286309ee7
DTSTAMP:20260215T192958Z
SUMMARY:Jacket Tennis VS Eupora [Senior Day]
DESCRIPTION:Starkville vs Eupora\nV/JV\n4:00pm\nSenior Night
URL;VALUE=URI:https://www.starkvillesd.com/athletics/calendar/8850088/jacke
 t-tennis-vs-eupora
DTSTART:20260227T220000Z
DTEND:20260228T000000Z
END:VEVENT
END:VCALENDAR
