BEGIN:VCALENDAR
VERSION:2.0
PRODID:SchoolNow
CALSCALE:GREGORIAN
BEGIN:VEVENT
UID:78904ad8-02c5-11f1-ab02-0affdf23371d
DTSTAMP:20260215T193237Z
SUMMARY:Jacket Tennis VS Germantown
DESCRIPTION:Starkville vs Germantown\nVarsity\n2:30pm
URL;VALUE=URI:https://www.starkvillesd.com/athletics/calendar/8850089/jacke
 t-tennis-vs-germantown
DTSTART:20260303T203000Z
DTEND:20260303T223000Z
END:VEVENT
END:VCALENDAR
