BEGIN:VCALENDAR
VERSION:2.0
PRODID:SchoolNow
CALSCALE:GREGORIAN
BEGIN:VEVENT
UID:f9b3a7fe-02c5-11f1-9b0f-0a58a9feac02
DTSTAMP:20260215T193949Z
SUMMARY:Jacket Tennis VS Murrah
DESCRIPTION:Starkville vs Murrah\nVarsity\n4:00pm
URL;VALUE=URI:https://www.starkvillesd.com/athletics/calendar/8850090/jacke
 t-tennis-vs-murrah
DTSTART:20260318T210000Z
DTEND:20260318T230000Z
END:VEVENT
END:VCALENDAR
