BEGIN:VCALENDAR
VERSION:2.0
PRODID:SchoolNow
CALSCALE:GREGORIAN
BEGIN:VEVENT
UID:190e7098-02c6-11f1-8c68-0e0a1100e6c7
DTSTAMP:20260215T194009Z
SUMMARY:Jacket Tennis AT Madison Central
DESCRIPTION:Starkville at Madison Central\nVarsity \n3:30pm
URL;VALUE=URI:https://www.starkvillesd.com/athletics/calendar/8850091/jacke
 t-tennis-at-madison-central
DTSTART:20260319T203000Z
DTEND:20260319T223000Z
END:VEVENT
END:VCALENDAR
