BEGIN:VCALENDAR
VERSION:2.0
PRODID:SchoolNow
CALSCALE:GREGORIAN
BEGIN:VEVENT
UID:34f7a630-02c6-11f1-9a5a-02c286309ee7
DTSTAMP:20260205T190934Z
SUMMARY:Jacket Tennis VS Clinton
URL;VALUE=URI:https://www.starkvillesd.com/athletics/calendar/8850092/jacke
 t-tennis-vs-clinton
DTSTART:20260321T190000Z
DTEND:20260321T210000Z
END:VEVENT
END:VCALENDAR
