BEGIN:VCALENDAR
VERSION:2.0
PRODID:SchoolNow
CALSCALE:GREGORIAN
BEGIN:VEVENT
UID:4f332d12-02c6-11f1-a95c-0a58a9feac02
DTSTAMP:20260215T194313Z
SUMMARY:Jacket Tennis AT MSMS
DESCRIPTION:Starkville at MSMS\nVarsity\n4:00pm
URL;VALUE=URI:https://www.starkvillesd.com/athletics/calendar/8850093/jacke
 t-tennis-at-msms
DTSTART:20260327T210000Z
DTEND:20260327T230000Z
END:VEVENT
END:VCALENDAR
