BEGIN:VCALENDAR
VERSION:2.0
PRODID:SchoolNow
CALSCALE:GREGORIAN
BEGIN:VEVENT
UID:66c8f574-02c6-11f1-9177-0affdf23371d
DTSTAMP:20260205T191057Z
SUMMARY:Jacket Tennis AT Brandon
URL;VALUE=URI:https://www.starkvillesd.com/athletics/calendar/8850094/jacke
 t-tennis-at-brandon
DTSTART:20260330T203000Z
DTEND:20260330T223000Z
END:VEVENT
END:VCALENDAR
