BEGIN:VCALENDAR
VERSION:2.0
PRODID:SchoolNow
CALSCALE:GREGORIAN
BEGIN:VEVENT
UID:860ef258-02c6-11f1-89a3-0a58a9feac02
DTSTAMP:20260205T191150Z
SUMMARY:Jacket Tennis AT Clinton
URL;VALUE=URI:https://www.starkvillesd.com/athletics/calendar/8850095/jacke
 t-tennis-at-clinton
DTSTART:20260407T130000Z
DTEND:20260407T150000Z
END:VEVENT
END:VCALENDAR
