BEGIN:VCALENDAR
VERSION:2.0
PRODID:SchoolNow
CALSCALE:GREGORIAN
BEGIN:VEVENT
UID:9b80eae2-02c6-11f1-b132-0a58a9feac02
DTSTAMP:20260205T191226Z
SUMMARY:Jacket Tennis First Round of Playoffs
URL;VALUE=URI:https://www.starkvillesd.com/athletics/calendar/8850096/jacke
 t-tennis-first-round-of-playoffs
DTSTART:20260409T181100Z
DTEND:20260409T191100Z
END:VEVENT
END:VCALENDAR
