BEGIN:VCALENDAR
VERSION:2.0
PRODID:SchoolNow
CALSCALE:GREGORIAN
BEGIN:VEVENT
UID:a700be1a-02c6-11f1-a20c-0e0a1100e6c7
DTSTAMP:20260331T175411Z
SUMMARY:Jacket Tennis Second Round of Playoffs
URL;VALUE=URI:https://www.starkvillesd.com/athletics/calendar/8850097/jacke
 t-tennis-second-round-of-playoffs
DTSTART;VALUE=DATE:20260414
DTEND;VALUE=DATE:20260415
END:VEVENT
END:VCALENDAR
