BEGIN:VCALENDAR
VERSION:2.0
PRODID:SchoolNow
CALSCALE:GREGORIAN
BEGIN:VEVENT
UID:ba9bfa5c-02c6-11f1-8a61-0a58a9feac02
DTSTAMP:20260331T174828Z
SUMMARY:Jacket Tennis State Tournament Team
URL;VALUE=URI:https://www.starkvillesd.com/athletics/calendar/8850098/jacke
 t-tennis-state-tournament-team
DTSTART;VALUE=DATE:20260420
DTEND;VALUE=DATE:20260421
END:VEVENT
END:VCALENDAR
