BEGIN:VCALENDAR
VERSION:2.0
PRODID:SchoolNow
CALSCALE:GREGORIAN
BEGIN:VEVENT
UID:cb5327a8-02c6-11f1-97bb-0affdf23371d
DTSTAMP:20260331T174952Z
SUMMARY:Jacket Tennis State Tournament Individual
URL;VALUE=URI:https://www.starkvillesd.com/athletics/calendar/8850099/jacke
 t-tennis-state-tournament-individual
DTSTART;VALUE=DATE:20260421
DTEND;VALUE=DATE:20260424
END:VEVENT
END:VCALENDAR
