BEGIN:VCALENDAR
VERSION:2.0
PRODID:SchoolNow
CALSCALE:GREGORIAN
BEGIN:VEVENT
UID:50a39a22-0aa7-11f1-bdae-0afff8bfbea1
DTSTAMP:20260215T194835Z
SUMMARY:Jacket Softball VS Kosciusko
DESCRIPTION:Starkville VS Kosciusko\nJV 2:00pm\n​​​​​​​V 3:30
 pm
URL;VALUE=URI:https://www.starkvillesd.com/athletics/calendar/8856615/jacke
 t-softball-vs-kosciusko
DTSTART:20260216T200000Z
DTEND:20260216T233000Z
END:VEVENT
END:VCALENDAR
