BEGIN:VCALENDAR
VERSION:2.0
PRODID:SchoolNow
CALSCALE:GREGORIAN
BEGIN:VEVENT
UID:ac935dcc-3446-11f1-896b-0e46a41889a5
DTSTAMP:20260410T150443Z
SUMMARY:Free Athletic Physicals provided by Baptist Memorial Okt County
DESCRIPTION:Our partners at Baptist Memorial Hospital - Oktibbeha County wi
 ll offer a date for FREE athletic physicals on Saturday\, April 25 from 8:
 30am to 9:30am at the Healthplex.
LOCATION:Baptist Memorial Okt County Healthplex
URL;VALUE=URI:https://www.starkvillesd.com/athletics/calendar/8982390/free-
 athletic-physicals-provided-by-baptist-memorial-okt-county
DTSTART:20260425T133000Z
DTEND:20260425T143000Z
END:VEVENT
END:VCALENDAR
