BEGIN:VCALENDAR
VERSION:2.0
PRODID:SchoolNow
CALSCALE:GREGORIAN
BEGIN:VEVENT
UID:0d818bcc-3447-11f1-892d-02f8b85aa643
DTSTAMP:20260409T190519Z
SUMMARY:Tryouts: Jacket Archery (for 7th-12th graders)
LOCATION:HWS Gym
URL;VALUE=URI:https://www.starkvillesd.com/athletics/calendar/8982395/tryou
 ts-jacket-archery-for-7th-12th-graders
DTSTART:20260908T213000Z
DTEND:20260908T230000Z
END:VEVENT
END:VCALENDAR
