BEGIN:VCALENDAR
VERSION:2.0
PRODID:SchoolNow
CALSCALE:GREGORIAN
BEGIN:VEVENT
UID:1ef84a94-3447-11f1-a95d-0affc0f1d53d
DTSTAMP:20260409T190549Z
SUMMARY:Tryouts: Jacket Archery (for 7th-12th graders)
LOCATION:HWS Gym
URL;VALUE=URI:https://www.starkvillesd.com/athletics/calendar/8982397/tryou
 ts-jacket-archery-for-7th-12th-graders-clone-clone
DTSTART:20260910T213000Z
DTEND:20260910T230000Z
END:VEVENT
END:VCALENDAR
