BEGIN:VCALENDAR
VERSION:2.0
PRODID:SchoolNow
CALSCALE:GREGORIAN
BEGIN:VEVENT
UID:7fbd11e8-3447-11f1-abbb-0a58a9feac02
DTSTAMP:20260409T190831Z
SUMMARY:Tryouts: 7th Grade Boys Basketball (for rising 7th graders)
DESCRIPTION:Jacket 7th Grade Boys Basketball Tryouts\n(for rising 7th grade
  boys)\nApril 29-30\nAfter school until 6:00pm\nArmstrong Junior High Gym\
 n\nCoaches will transport student athletes from Partnership Middle School 
 to Armstrong by bus after school. Parents should pick-up students from Arm
 strong at 6:00pm.
LOCATION:Armstrong Gym
URL;VALUE=URI:https://www.starkvillesd.com/athletics/calendar/8982411/tryou
 ts-7th-grade-boys-basketball-for-rising-7th-graders-clone
DTSTART:20260430T210000Z
DTEND:20260430T230000Z
END:VEVENT
END:VCALENDAR
