BEGIN:VCALENDAR
VERSION:2.0
PRODID:SchoolNow
CALSCALE:GREGORIAN
BEGIN:VEVENT
UID:16d1173c-3448-11f1-ae57-0200fda79de5
DTSTAMP:20260409T191245Z
SUMMARY:Tryouts: 9th Grade Boys Basketball (for rising 9th graders)
DESCRIPTION:Jacket 9th Grade Boys Basketball Tryouts\n(for rising 9th grade
  boys)\nApril 29-30\nAfter school\nStarkville High Gym
LOCATION:SHS Gym
URL;VALUE=URI:https://www.starkvillesd.com/athletics/calendar/8982423/tryou
 ts-9th-grade-boys-basketball-for-rising-9th-graders-clone
DTSTART:20260430T210000Z
DTEND:20260430T230000Z
END:VEVENT
END:VCALENDAR
