BEGIN:VCALENDAR
VERSION:2.0
PRODID:SchoolNow
CALSCALE:GREGORIAN
BEGIN:VEVENT
UID:53c69e1e-3448-11f1-99ce-0affc0f1d53d
DTSTAMP:20260409T191427Z
SUMMARY:Tryouts: High School Boys Basketball (for rising 10th-12th graders)
DESCRIPTION:Jacket High School Boys Basketball Tryouts\n(for rising 10th-12
 th grade boys)\nApril 29-30\nAfter school\nStarkville High Gym
LOCATION:SHS Gym
URL;VALUE=URI:https://www.starkvillesd.com/athletics/calendar/8982429/tryou
 ts-high-school-boys-basketball-for-rising-10th-12th-graders-clone
DTSTART:20260430T210000Z
DTEND:20260430T230000Z
END:VEVENT
END:VCALENDAR
