BEGIN:VCALENDAR
VERSION:2.0
PRODID:SchoolNow
CALSCALE:GREGORIAN
BEGIN:VEVENT
UID:fec289fa-3451-11f1-b357-0a58a9feac02
DTSTAMP:20260409T202339Z
SUMMARY:Tryouts: 7th Grade Girls Basketball (for rising 7th graders)
DESCRIPTION:Jacket 7th Grade Girls Basketball Tryouts\n(for rising 7th gr
 ade girls)\nMay 4-5\n4:30pm - 6:00pm\nArmstrong Junior High Gym\n\nCoaches
  will transport student athletes from Partnership Middle School to Armstr
 ong by bus after school. Parents should pick-up students from Armstrong at
  6:00pm.
LOCATION:Armstrong Gym
URL;VALUE=URI:https://www.starkvillesd.com/athletics/calendar/8982468/tryou
 ts-7th-grade-girls-basketball-for-rising-7th-graders
DTSTART:20260504T213000Z
DTEND:20260504T230000Z
END:VEVENT
END:VCALENDAR
