BEGIN:VCALENDAR
VERSION:2.0
PRODID:SchoolNow
CALSCALE:GREGORIAN
BEGIN:VEVENT
UID:7a7e79fa-3452-11f1-8bfe-0e9df8ec48d3
DTSTAMP:20260409T202707Z
SUMMARY:Tryouts: 8th Grade Girls Basketball (for rising 8th graders)
DESCRIPTION:Jacket 8th Grade Girls Basketball Tryouts\n(for rising 8th grad
 e girls)\nMay 5-6\n4:30pm - 6:00pm\nArmstrong Junior High Gym\n\nCoaches w
 ill transport student athletes from Partnership Middle School to Armstrong
  by bus after school. Parents should pick-up students from Armstrong at 6:
 00pm.
LOCATION:Armstrong Gym
URL;VALUE=URI:https://www.starkvillesd.com/athletics/calendar/8982474/tryou
 ts-8th-grade-girls-basketball-for-rising-8th-graders
DTSTART:20260505T213000Z
DTEND:20260505T230000Z
END:VEVENT
END:VCALENDAR
