BEGIN:VCALENDAR
VERSION:2.0
PRODID:SchoolNow
CALSCALE:GREGORIAN
BEGIN:VEVENT
UID:c154cd48-3452-11f1-9e1a-0e46a41889a5
DTSTAMP:20260409T202942Z
SUMMARY:Tryouts: 9th Grade Girls Basketball (for rising 9th graders)
DESCRIPTION:Jacket 9th Grade Girls Basketball Tryouts\n(for rising 9th grad
 e girls)\nMay 6-7\nAfter school\nStarkville High Gym
LOCATION:SHS Gym
URL;VALUE=URI:https://www.starkvillesd.com/athletics/calendar/8982480/tryou
 ts-9th-grade-girls-basketball-for-rising-9th-graders
DTSTART:20260506T210000Z
DTEND:20260506T230000Z
END:VEVENT
END:VCALENDAR
