BEGIN:VCALENDAR
VERSION:2.0
PRODID:SchoolNow
CALSCALE:GREGORIAN
BEGIN:VEVENT
UID:cf0869d6-3452-11f1-a778-02f8b85aa643
DTSTAMP:20260409T202929Z
SUMMARY:Tryouts: 9th Grade Girls Basketball (for rising 9th graders)
DESCRIPTION:Jacket 9th Grade Girls Basketball Tryouts\n(for rising 9th grad
 e girls)\nMay 6-7\nAfter school\nStarkville High Gym
LOCATION:SHS Gym
URL;VALUE=URI:https://www.starkvillesd.com/athletics/calendar/8982481/tryou
 ts-9th-grade-girls-basketball-for-rising-9th-graders-clone
DTSTART:20260507T210000Z
DTEND:20260507T230000Z
END:VEVENT
END:VCALENDAR
