BEGIN:VCALENDAR
VERSION:2.0
PRODID:SchoolNow
CALSCALE:GREGORIAN
BEGIN:VEVENT
UID:ff1cad80-3452-11f1-b2ed-0267be9aac35
DTSTAMP:20260409T203128Z
SUMMARY:Tryouts: High School Girls Basketball (for rising 10th-12th graders
 )
DESCRIPTION:Jacket High School Girls Basketball Tryouts\n(for rising 10th-1
 2th grade girls)\nMay 5-6\nAfter school\nStarkville High Gym
LOCATION:SHS Gym
URL;VALUE=URI:https://www.starkvillesd.com/athletics/calendar/8982486/tryou
 ts-high-school-girls-basketball-for-rising-10th-12th-graders
DTSTART:20260505T210000Z
DTEND:20260505T230000Z
END:VEVENT
END:VCALENDAR
