BEGIN:VCALENDAR
VERSION:2.0
PRODID:SchoolNow
CALSCALE:GREGORIAN
BEGIN:VEVENT
UID:210e9af2-3453-11f1-9f51-02f8b85aa643
DTSTAMP:20260409T203146Z
SUMMARY:Tryouts: High School Girls Basketball (for rising 10th-12th graders
 )
DESCRIPTION:Jacket High School Girls Basketball Tryouts\n(for rising 10th-1
 2th grade girls)\nMay 5-6\nAfter school\nStarkville High Gym
LOCATION:SHS Gym
URL;VALUE=URI:https://www.starkvillesd.com/athletics/calendar/8982487/tryou
 ts-high-school-girls-basketball-for-rising-10th-12th-graders-clone
DTSTART:20260506T210000Z
DTEND:20260506T230000Z
END:VEVENT
END:VCALENDAR
