BEGIN:VCALENDAR
VERSION:2.0
PRODID:SchoolNow
CALSCALE:GREGORIAN
BEGIN:VEVENT
UID:2ef63eca-3455-11f1-a585-0a58a9feac02
DTSTAMP:20260409T204628Z
SUMMARY:Tryouts: Cross Country Boys & Girls (for rising 7th-12th graders)
DESCRIPTION:Jacket Cross Country Boys and Girls Tryouts\n(for rising 7th-12
 th graders)\nJuly 17\n7:00am\nSouth Farm on MSU Campus
LOCATION:MSU South Farm
URL;VALUE=URI:https://www.starkvillesd.com/athletics/calendar/8982495/tryou
 ts-cross-country-boys-girls-for-rising-7th-12th-graders
DTSTART:20260717T120000Z
DTEND:20260717T140000Z
END:VEVENT
END:VCALENDAR
