BEGIN:VCALENDAR
VERSION:2.0
PRODID:SchoolNow
CALSCALE:GREGORIAN
BEGIN:VEVENT
UID:a369fc1a-3455-11f1-8fd8-02f8b85aa643
DTSTAMP:20260409T204944Z
SUMMARY:Tryouts: 7th Grade Football (for rising 7th graders)
DESCRIPTION:Jacket 7th Grade Football Tryouts\n(for rising 7th grade boys)\
 nMay 18-21\nAfter school until 5:00pm\nPartnership Middle School
LOCATION:Partnership Middle School
URL;VALUE=URI:https://www.starkvillesd.com/athletics/calendar/8982500/tryou
 ts-7th-grade-football-for-rising-7th-graders
DTSTART:20260518T203000Z
DTEND:20260518T220000Z
END:VEVENT
END:VCALENDAR
