BEGIN:VCALENDAR
VERSION:2.0
PRODID:SchoolNow
CALSCALE:GREGORIAN
BEGIN:VEVENT
UID:b09b696e-3455-11f1-90ca-0a58a9feac02
DTSTAMP:20260409T205006Z
SUMMARY:Tryouts: 7th Grade Football (for rising 7th graders)
DESCRIPTION:Jacket 7th Grade Football Tryouts\n(for rising 7th grade boys)\
 nMay 18-21\nAfter school until 5:00pm\nPartnership Middle School
LOCATION:Partnership Middle School
URL;VALUE=URI:https://www.starkvillesd.com/athletics/calendar/8982502/tryou
 ts-7th-grade-football-for-rising-7th-graders-clone-clone
DTSTART:20260520T203000Z
DTEND:20260520T220000Z
END:VEVENT
END:VCALENDAR
