BEGIN:VCALENDAR
VERSION:2.0
PRODID:SchoolNow
CALSCALE:GREGORIAN
BEGIN:VEVENT
UID:0d28d842-3456-11f1-a74a-0e46a41889a5
DTSTAMP:20260409T205241Z
SUMMARY:Tryouts through May 15: SHS Football (for rising 10th-12th graders)
DESCRIPTION:Jacket High School Football Tryouts\n(for rising 10th-12th grad
 e boys)\nApril 22-May15\nAfter school\nStarkville High School\n\nSHS Footb
 all will host a Spring Game on May 15
LOCATION:SHS Gym
URL;VALUE=URI:https://www.starkvillesd.com/athletics/calendar/8982512/tryou
 ts-through-may-15-shs-football-for-rising-10th-12th-graders
DTSTART:20260422T210000Z
DTEND:20260422T230000Z
END:VEVENT
END:VCALENDAR
