BEGIN:VCALENDAR
VERSION:2.0
PRODID:SchoolNow
CALSCALE:GREGORIAN
BEGIN:VEVENT
UID:51a3c414-3456-11f1-a392-0e9df8ec48d3
DTSTAMP:20260409T205436Z
SUMMARY:Tryouts: Boys and Girls Golf Tryouts (for rising 9th-12th graders)
DESCRIPTION:Jacket Boys and Girls Golf Tryouts\n(for rising 9th-12th grader
 s)\nMay 12-13\nAfter school\nStarkville Country Club
LOCATION:Starkville Country Club
URL;VALUE=URI:https://www.starkvillesd.com/athletics/calendar/8982515/tryou
 ts-boys-and-girls-golf-tryouts-for-rising-9th-12th-graders
DTSTART:20260512T210000Z
DTEND:20260512T230000Z
END:VEVENT
END:VCALENDAR
