BEGIN:VCALENDAR
VERSION:2.0
PRODID:SchoolNow
CALSCALE:GREGORIAN
BEGIN:VEVENT
UID:9a68e684-3456-11f1-89c3-0affd4ac70ad
DTSTAMP:20260409T205638Z
SUMMARY:Tryouts: Boys and Girls Soccer (for rising 7th-12th graders)
DESCRIPTION:Jacket Soccer Tryouts\n(for rising 7th-12th graders)\nMay 11 an
 d May 13\n4:30pm - 6:00pm\nStarkville High School - practice fields behind
  the Athletic Complex
LOCATION:Starkville High
URL;VALUE=URI:https://www.starkvillesd.com/athletics/calendar/8982523/tryou
 ts-boys-and-girls-soccer-for-rising-7th-12th-graders
DTSTART:20260511T213000Z
DTEND:20260511T230000Z
END:VEVENT
END:VCALENDAR
