BEGIN:VCALENDAR
VERSION:2.0
PRODID:SchoolNow
CALSCALE:GREGORIAN
BEGIN:VEVENT
UID:ff3ee874-3456-11f1-8284-0ea95dd34c39
DTSTAMP:20260409T205927Z
SUMMARY:Tryouts: Softball Tryouts (for rising 7th-8th graders)
DESCRIPTION:Jacket Softball Tryouts\n(for rising 9th-12th grade girls)\nMay
  18\n5:00pm - 7:30pm\nSHS Softball Field\n\nJacket Softball Tryouts\n(for 
 rising 7th-8th grade girls)\nMay 19\n5:00pm - 7:30pm\nSHS Softball Field\n
 \nJacket Softball Tryouts\n(for rising 7th-12th grade girls)\nMay 20\n5:00
 pm - 6:30pm\nSHS Softball Field
LOCATION:Starkville High
URL;VALUE=URI:https://www.starkvillesd.com/athletics/calendar/8982535/tryou
 ts-softball-tryouts-for-rising-9th-12th-graders-clone
DTSTART:20260519T220000Z
DTEND:20260520T003000Z
END:VEVENT
END:VCALENDAR
