BEGIN:VCALENDAR
VERSION:2.0
PRODID:SchoolNow
CALSCALE:GREGORIAN
BEGIN:VEVENT
UID:0901d5b0-3457-11f1-a842-0a58a9feac02
DTSTAMP:20260409T205944Z
SUMMARY:Tryouts: Softball Tryouts (for rising 7th-12th graders)
DESCRIPTION:Jacket Softball Tryouts\n(for rising 9th-12th grade girls)\nMay
  18\n5:00pm - 7:30pm\nSHS Softball Field\n\nJacket Softball Tryouts\n(for 
 rising 7th-8th grade girls)\nMay 19\n5:00pm - 7:30pm\nSHS Softball Field\n
 \nJacket Softball Tryouts\n(for rising 7th-12th grade girls)\nMay 20\n5:00
 pm - 6:30pm\nSHS Softball Field
LOCATION:Starkville High
URL;VALUE=URI:https://www.starkvillesd.com/athletics/calendar/8982536/tryou
 ts-softball-tryouts-for-rising-9th-12th-graders-clone-clone
DTSTART:20260520T220000Z
DTEND:20260521T003000Z
END:VEVENT
END:VCALENDAR
