BEGIN:VCALENDAR
VERSION:2.0
PRODID:SchoolNow
CALSCALE:GREGORIAN
BEGIN:VEVENT
UID:564e3d36-3457-11f1-ba03-0200fda79de5
DTSTAMP:20260409T210153Z
SUMMARY:Tryouts: Jacket Swim (for rising 7th-12th grade boys and girls)
DESCRIPTION:Jacket Swim Tryouts\n(for rising 7th-12th graders)\nMay 12\n5:0
 0pm\nMSU Sanderson Center
LOCATION:MSU  Sanderson Center
URL;VALUE=URI:https://www.starkvillesd.com/athletics/calendar/8982547/tryou
 ts-jacket-swim-for-rising-7th-12th-grade-boys-and-girls
DTSTART:20260512T220000Z
DTEND:20260513T000000Z
END:VEVENT
END:VCALENDAR
