BEGIN:VCALENDAR
VERSION:2.0
PRODID:SchoolNow
CALSCALE:GREGORIAN
BEGIN:VEVENT
UID:f38f4b30-3457-11f1-b383-0ea95dd34c39
DTSTAMP:20260409T210617Z
SUMMARY:Tryouts: Boys Indoor Track & Field (for rising 7th-12th graders)
DESCRIPTION:Jacket Indoor Track Boys Tryouts\n(for 7th-12th grade boys)\nNo
 vember 11\nAfter school\nSHS Track
LOCATION:Starkville High School
URL;VALUE=URI:https://www.starkvillesd.com/athletics/calendar/8982558/tryou
 ts-boys-indoor-track-field-for-rising-7th-12th-graders
DTSTART:20261111T220000Z
DTEND:20261112T000000Z
END:VEVENT
END:VCALENDAR
